BEGIN:VCALENDAR
PRODID:-//Det Danske Spejderkorps//NONSGML Gruppeweb//EN
VERSION:2.0
CALSCALE:GREGORIAN
X-PUBLISHED-TTL:PT1H
X-WR-CALNAME:Klan i Camelot Spejderne
METHOD:PUBLISH
BEGIN:VEVENT
UID:gruppeweb.dk:4416:event:239
DTSTAMP:20260422T160110Z
LAST-MODIFIED:20250703T174357Z
SUMMARY:Fælles sommerlejr for Mini\, junior og Trop 2025
DESCRIPTION:-------- Datoer -----------------------------------------------
 ---------------\n\n\n\nMinispejderne tager afsted d. 27-29 Juli\nJunior og
  trop tager afsted d. 26 Juli - d. 02 August\n\n-------- Priser ----------
 ----------------------------------------------------\n\nPrisen er 400 kr. 
 som minispejder og 850kr. for junior og tropsspejdere.\nPrisen vil automat
 isk tilpasse sig\, når man vælger den gren man tilhøre.\n\n-------- For
 ældregruppe -----------------------------------------------------\n\nHar 
 man lyst til at tage med som forældre\, så er man meget velkommen til at
   \ndeltage på lejren også.\nMan vil så deltage som en del af ledergrup
 pen\, og være med til at se efter  \nbørnene og deltage i diverse mindre
  lederopgaver.\n\nSidste tilmeldingsfrist d. 1 juli kl23.30\n\nFor mere in
 formation\, spørg en leder eller gå ind  \npå https://houensoddespejde
 rcenter.dk/planlaeg-ophold/centerlejr/\n[1]\n\nVi glæder os til at tage t
 il Houens Odde Spejdercenter med jer!\n\nMange spejderhilsner\nLederne i C
 amelot\n\n\n[1] https://houensoddespejdercenter.dk/planlaeg-ophold/centerl
 ejr/\n
URL:https://camelotspejderne.dk/begivenhed/faelles-sommerlejr-mini-junior-o
 g-trop-2025
DTSTART:20250726T110000Z
DTEND:20250802T110000Z
LOCATION:Camelot Spejderne\, Svenstrupvej 20\, Skt Klemens\, 5260 Odense S
END:VEVENT
BEGIN:VEVENT
UID:gruppeweb.dk:4416:event:241
DTSTAMP:20260422T160110Z
LAST-MODIFIED:20250824T055017Z
SUMMARY:Oprykning 2025
DESCRIPTION:======== Kom og vær med\, når spejderne rykker op på den god
 e\, gammeldags\n         manér. Tag dine forældre og søskende med\, og 
 vær med til at\n         fejre Camelots opryknings dag med fælleskab og 
 traditioner i\n         centrum! =========================================
 ===================\n\nOprykning er dagen hvor vi markerer skiftet mellem 
 spejder grenene. Dette  \nbliver gjort i det grønne\, med spejderaktivite
 t og lidt at spise.\nKl. 10.00 Mødes vi i Render (Hesbjerg Skovvej 5\, 54
 91 Blommenslyst)\nKl. 10.30 Spejderløb for spejdere og familiemedlemmer\n
 Kl. 12.00 Spisning. Her får vi pølser og brød fra grillen/bålet.\nKl. 
 12.30 Oprykningsceremoni\, samt uddeling af sølvøksen til årets  \nkamm
 erat i troppen.\nKl. 14.00 Farvel og tak for denne gang.\nHusk selv at med
 bringe et tæppe eller lignende til at sidde på\, samt  \nservice til at
  kunne spise pølser og brød.\nDet kan være en fordel at cykle eller arr
 angere fælleskørsel\, da det er  \nsparsomt med parkeringspladser. \nVi
  ser meget gerne\, at man deltager selvom man ikke selv skal rykke op\, da
   \ndette gør oplevelsen bedst for alle spejderne og styrke fællesskab  
 \nfølelsen i grenene.\n
URL:https://camelotspejderne.dk/begivenhed/oprykning-2025
DTSTART:20250824T080000Z
DTEND:20250824T120000Z
LOCATION:Render hytterne\, Hesbjerg skovvej 5\, 5491 blommenslyst
END:VEVENT
BEGIN:VEVENT
UID:gruppeweb.dk:4416:event:246
DTSTAMP:20260422T160110Z
LAST-MODIFIED:20250916T182528Z
SUMMARY:Hjælpere - Skt. Klemens Loppemarked 2025
DESCRIPTION:Fredag \n   starter vi med at tømme lageret ved spejderhytten
  for effekter. Effekterne  \nkøres derfra til Skt. Klemens hallen\, hvor 
 markedet skal afvikles. Fra ca.  \nkl.18 har vi brug for hjælp til at sæ
 tte effekterne på plads i hallen.  \nGlas og porcelæn skal stilles på e
 t bord\, møbler et andet sted osv. \nHjælper man til fredag aften\, mø
 des man ved Skt. Klemenshallen.\nLoppemarkedets udvalget starter tidligt f
 redag\, så hvis man kan hjælpe før  \nkl.18\, så kryds det gerne af.\n
 Lørdag står den på salg af effekter fra kl.10 til 16\, og søndag sæl
 ges  \nder fra kl.10 til 14. Her har vi brug for hjælp fra både spejdere
  og jeres  \nforældre til at sælge effekter. Når du/i møder op\, vil i
  få et bord med  \neffekter\, som i skal sælge fra. Vi sørger for bytte
 penge\, du skal blot  \nfinde din indre krejler frem.\n   \n     Man må 
 meget gerne møde en halv time i forvejen\, da dørene åbner  \nkl.10.\n\
 n   Hjælper man til lørdag og søndag\, mødes man ved Skt. Klemenshall
 en.\nSøndag eftermiddag køres de overskydende effekter på hhv. lossepl
 adsen og  \ntil hytten. Her har vi igen brug for trailer-hjælp og stærke
  arme til at  \nrydde op efter loppemarkedet. \nEfter afsluttet oprydning
  vil der være evaluering og spisning i  \nspejderhytten.\n     \nSpejder
 nes opgaver under loppemarkedet plejer at være således:\n     \n * Fam
 iliespejd/Mikro/Mini: hjælper en forælder eller stor spejder med salg\n 
   af effekter. De kan også være på kaffe/kage uddelingsholdet\n * Junio
 r: Står i cafeen.\n * Trop/klan: Kan sælge effekter\, sidde i indgangen 
 eller hjælpe til i\n   cafeen.\n\nDet er et stort arbejde\, at afvikle lo
 ppemarkedet\, så vi håber\, at der er  \nmange som har mulighed for at h
 jælpe - også selvom det kun er en time eller  \nto.\nOverskuddet går ti
 l aktiviteter for alle Camelot spejderne\n
URL:https://camelotspejderne.dk/begivenhed/hjaelpere-skt-klemens-loppemarke
 d-2025
DTSTART:20251024T160000Z
DTEND:20251026T150000Z
LOCATION:Camelot Spejderne\, Svenstrupvej 20\, Skt Klemens\, 5260 Odense S
END:VEVENT
BEGIN:VEVENT
UID:gruppeweb.dk:4416:event:247
DTSTAMP:20260422T160110Z
LAST-MODIFIED:20251122T092726Z
SUMMARY:Camelots Juletur 2025
DESCRIPTION:Fredag kl. 17.00Afgang fra Camelot -  Hylkedam\, Spejderne ska
 l have pakket  \ntil alm. weekendtur i en hytte\, husk derfor lagen til ma
 drasser i stedet for  \nliggeunderlag samt nissehuen.\nHusk derudover madp
 akke til fredag aftenI løbet af fredagen vil der være  \njulebanko\, med
 bring derfor gerne en lille gave til max 25kr.\nLørdag:\nEkstrem spejder-
 julehygge med alt hvad der dertil hører.Familiespejder er  \ninviteret fr
 a lørdag til søndag\, for mere information\, tag fat i Louise  \neller N
 icolaj.\nSøndag kl.10.00Afgang til Camelots hytte og glædelig jul til al
 le.\nDer skal bruges hjælp af forældre til af køre frem og tilbage imel
 lem  \nHylkedam og Camelots hytte\, så husk at krydse af hvilken dag i ka
 n køre \;)\nVi vil ligesom sidste år gerne høre\, om der er nogle foræ
 ldre\, som kunne  \ntænke sig at deltage på turen\, som køkkenhold.\nDe
 t kan være svært for lederne både at holde styr på madlavning og  \nsp
 ejdere samtidig\, derfor kunne vi godt bruge en hjælpende hånd.\nLedere 
 og spejdere vil selvfølgelig hjælpe til\, alt hvad de kan. Hvis du  \nsy
 nes at dette lyder som noget for dig\, skal du blot krydse af\, når du  \
 ntilmelder din spejder til turen.\nSidste tilmelding er den 21/11\nRigtig 
 glædelig juleturFra alle lederne i Camelot\n
URL:https://camelotspejderne.dk/begivenhed/camelots-juletur-2025
DTSTART:20251128T160000Z
DTEND:20251130T090000Z
LOCATION:Camelot Spejderne\, Svenstrupvej 20\, Skt Klemens\, 5260 Odense S
END:VEVENT
BEGIN:VEVENT
UID:gruppeweb.dk:4416:event:258
DTSTAMP:20260422T160110Z
LAST-MODIFIED:20260208T161512Z
SUMMARY:Generalforsamling 2026
DESCRIPTION:*Camelot Spejdernes\ngeneralforsamling (grupperådsmøde)*\n\n\
 n\n\n\n\nCamelot\nSpejderne inviterer til den årlige generalforsamling (g
 rupperådsmøde*)  \nlørdag\nden 7. marts 2026 kl. 10:00 til 11:30*. Mød
 et holdes på: Skovgården\,  \nKarlskovvej\n35\, 5500 Middelfart\n\n\n\n\
 n\nVi opfordrer\nkraftigt til at alle familier stiller med min. én foræl
 der pr. familie  \n(gælder\nikke klanspejdere).\n\n\n\n/ /\n\n*/Hvorfor\
 ndeltage:/*\n\n\n\n/ /\n\n/At deltage i\net grupperådsmøde i Det Danske
  Spejderkorps (DDS) er vigtigt\, fordi det er  \nden\nårlige generalforsa
 mling\, hvor gruppens fremtid\, økonomi og aktiviteter\nbesluttes./\n\n\n
 \n/ /\n\n·       \n*/Indflydelse og demokrati:/*/\nGrupperådet e
 r gruppens øverste organ. Du er med til at stemme om  \nbestyrelsens\nsam
 mensætning\, godkende regnskabet og lægge budgettet for det kommende  \n
 år./\n\n\n\n·       \n*/Medbestemmelse for forældre:/*/\nHvis sp
 ejderen er under 15 år\, har forældre stemmeret. Det er din mulighed  \n
 for\nat præge\, hvilken retning gruppen skal bevæge sig i\, f.eks. vedr
 ørende  \nudstyr\,\nture eller fokusområder./\n\n\n\n·       \n*
 /Indsigt i spejderlivet:/*/ På\nmødet fremlægges beretninger om året\,
  der gik\, og planerne for det  \nkommende år\,\nherunder udviklingsplane
 r. Det giver et klart billede af\, hvad dit barn\noplever./\n\n\n\n·  
      \n*/Støtte til lederne:/*/ Ved at\ndeltage viser du opbakning t
 il de frivillige ledere\, der bruger meget tid på\nspejderne. Det er ogs
 å her\, man kan tilbyde en hjælpende hånd til  \npraktiske\nopgaver /\n
 \n\n\n·       \n*/Socialt fællesskab:/*/\nGrupperådsmødet er en
  lejlighed til at møde andre forældre\, ledere og  \nmedlemmer\naf grupp
 estyrelsen i en uformel ramme. /\n\n\n\n\n \n\n\nDagsorden\nfor grupperå
 dsmødet:\n\n\n\n\n\n1.     \nValg af dirigent og referent\n\n\n\n2.
      \nFremlæggelse af beretning fra bestyrelsen og\ngruppeledelse\n
 \n\n\n3.     \nFremlæggelse af årsregnskab og budget\n\n\n\n4.  
    \nBehandling af indkommende forslag.\n\n\n\n5.     \nForslag sk
 al være formanden i hænde senest den\n21. februar 2026\n\n\n\n6.    
  \nUdviklingsplan for Camelot spejderne.\n\n\n\n7.     \nProjekt ”
 ny hytte” status\n\n\n\n8.     \nValg af bestyrelsesmedlemmer samt 
 suppleanter.\n\n\n\n9.     \nValg af 2 medlemmer til Korpsrådet (1 
 år).\n\n\n\n10.  \nValg af 5 medlemmer til Divisionsrådet (1 år).\n\n
 \n\n11.  \nValg af revisor og revisor suppleant.\n\n\n\n12.  \nEventue
 lt\n\n\n\n\n \n\n\nDet er også muligt at\nhøre om Spejdernes Lejr 2026.
  Materialet til mødet sendes én uge før  \nmødet.\n\n\n\n\n\nDet er mu
 ligt at\nmedbringe søskende\, da der er aktiviteter for alle der ikke del
 tager i  \nmødet.\n\n\n\n\n\n\nGeneralforsamlingen\nafholdes ifm. Camelot
  Spejdernes gruppetur. Tilmelding til gruppeturen 2026  \n(6.til\n8.marts)
  kan ske via dette link:  \nhttps://camelotspejderne.dk/begivenhed/gruppet
 ur-2026 [1]\n\n\n\n\n[1] https://camelotspejderne.dk/begivenhed/gruppetur-
 2026\n
URL:https://camelotspejderne.dk/begivenhed/generalforsamling-2026
DTSTART:20260307T090000Z
DTEND:20260307T103000Z
LOCATION:Skovgården\, Karlskovvej 35 B\, 5500 Middelfart
END:VEVENT
BEGIN:VEVENT
UID:gruppeweb.dk:4416:event:253
DTSTAMP:20260422T160110Z
LAST-MODIFIED:20260121T161428Z
SUMMARY:Apokalypse 2026 - Jæger tilmelding
DESCRIPTION:Jægerløbet er anderledes på Apokaklypseløbet 2026!\n\n Lø
 bet er i år ikke en konkurrence for seniorspejdere\, men i stedet en  \nm
 ulighed for som seniorspejder/leder at hjælpe med at lave et spejderløb 
  \nmed gode fangst og jagt oplevelser for spejderne.\n\n Det betyder at d
 er er en lidt højere komfort i jægerrollen\, man kommer  \ntil at vide m
 ere om hvor spejderne befinder sig og man kan være med i  \nkortere perio
 der end hele løbet.\n\n Vi arbejder lige på mere information omkring ra
 mmerne\, men er du  \ninterresseret kan du kontakte mike@apokalypse.dk [1]
 \n\n Er du eller din sjak allerede klar\, så tilmeld jer her!\n\nSidste 
 tilmeldingsfrist 20 februar kl.23:55\n\n\n[1] mailto:mike@apokalypse.dk\n
URL:https://camelotspejderne.dk/begivenhed/apokalypse-2026-jaeger-tilmeldin
 g
DTSTART:20260320T170000Z
DTEND:20260322T110000Z
LOCATION:Camelot Spejderne\, Svenstrupvej 20\, Skt Klemens\, 5260 Odense S
END:VEVENT
BEGIN:VEVENT
UID:gruppeweb.dk:4416:event:259
DTSTAMP:20260422T160110Z
LAST-MODIFIED:20260422T051126Z
SUMMARY:Skt. Georgs Dag
DESCRIPTION:*Den 23. april fejrer spejdere verden over Spejderdagen - også
  kendt som  \nSankt Georgsdag. Det gør vi også i Camelot*\n\nDen 23. apr
 il fejrer spejdere over hele verden Spejderdagen – også kendt  \nsom Sk
 t. Georgs Dag. Det gør vi selvfølgelig også i Camelot.\n\nSkt. Georg er
  spejdernes skytshelgen.\nIfølge legenden var han en modig ridder\, der k
 æmpede mod en farlig drage  \nfor at beskytte en by og dens indbyggere. H
 istorien om Skt. Georg og dragen  \nhandler om mod\, viljestyrke og om at 
 stå op for det\, der er rigtigt –  \nværdier som også er helt central
 e i spejderlivet. \n\nDerfor markerer vi dagen sammen på tværs af alle 
 grene til en hyggelig og  \ntraditionsrig eftermiddag fyldt med spejderån
 d.\n\nProgrammet byder på:\n\n- Aflæggelse af spejderløftet i de forske
 llige grene\n\n- Kage til alle\n\n- Mikroerne opfører sagnet om Skt. Geor
 g og Dragen\n\n\nVi glæder os til at se en masse spejdere til en skøn fe
 jring af vores  \nfællesskab og spejdertraditioner!\n\n
URL:https://camelotspejderne.dk/begivenhed/skt-georgs-dag
DTSTART:20260423T150000Z
DTEND:20260423T163000Z
LOCATION:Camelot Spejderne\, Svenstrupvej 20\, Skt Klemens\, 5260 Odense S
END:VEVENT
BEGIN:VEVENT
UID:gruppeweb.dk:4416:event:251
DTSTAMP:20260422T160110Z
LAST-MODIFIED:20260421T053448Z
SUMMARY:Spejdernes Lejr 2026
DESCRIPTION:Spejdernes Lejr foregår fra 18. til 26. juli 2026 i Hedeland
  Naturpark.  \nDet er otte dage fulde af sjove aktiviteter\, nye venskabe
 r\, store oplevelser  \nog masser af spejderliv sammen med dem du kender f
 ra gruppen\, men med rig  \nmulighed for at møde spejdere på tværs af k
 orps fra resten af Danmark og  \nhele verden.  \n\nCamelot Spejderne sk
 al selvfølgelig også med\, og vi håber\, at DU vil  \nvære en del af o
 plevelsen! \n\nHvorfor skal du med på Spejdernes Lejr 2026? \n\nSpejder
 nes Lejr er en lidt større oplevelse\, end du er vant til fra  \ngruppetu
 re og centerlejre. Lejren foregår hvert fjerde år forskellige  \nsteder 
 i Danmark. Hvis du tager med på Spejdernes Lejr 2026 får du: \n\n•En 
 hel uge fyldt med aktiviteter\, udfordringer og oplevelser. \n\n•Et uni
 kt fællesskab med spejdere fra hele landet (og resten af  \nverden). \n
 \n•Oplevelsen af en spejderby\, hvor 30.000 af børn\, unge og  \nv
 oksne bor\, leger\, lærer og arbejder sammen. \n\n•Minder for livet
 ! \n*Det praktiske:*\n\n\nGrenDatoerPrisFamiliespejd barn 3-6 år22.-24.3
 50Familespejd barn 6+  \når22.-24.900Familespejd  \nvosken22.-24.900Mikro
 22.-24.900Mini22.-25.1100Junior18.-26.1750Trop 18.-26.1750Klan18.-26.1750
 \n------------------------------------------------------------------------
 ------\n\n\nTransport til og fra lejren bliver med bus - nærmere info kom
 mer.\n\nFamiliespejdere med forældre må gerne transportere sig selv.\n\n
 \nPakkeliste findes her: https://camelotspejderne.dk/files/2025-11/Pakkel
 iste  \nsommerlejr.pdf   [1]\n\n\n\n\nHvis man har spørgsmål\, kan man
  tage fat i sin grenleder.\n\nAlternativt Anders Frederiksen på 27392019\
 n\n\nVi afholder et* infomøde i Camelot den 18. december klokken 16.45.* 
 Så kan  \nman få svar på de spørgsmål man måtte have.\n\n\n\n\n\n[1]
  https://camelotspejderne.dk/files/2025-11/Pakkeliste sommerlejr.pdf\n
URL:https://camelotspejderne.dk/begivenhed/spejdernes-lejr-2026
DTSTART:20260718T070000Z
DTEND:20260726T140000Z
LOCATION:Naturpark Hedeland\, 2640 Hedehusene
END:VEVENT
BEGIN:VEVENT
UID:gruppeweb.dk:4416:event:267
DTSTAMP:20260422T160110Z
LAST-MODIFIED:20260421T055226Z
SUMMARY:Spejdernes Lejr 2026 Eftertilmelding
DESCRIPTION:Spejdernes Lejr foregår fra 18. til 26. juli 2026 i Hedeland
  Naturpark.  \nDet er otte dage fulde af sjove aktiviteter\, nye venskabe
 r\, store oplevelser  \nog masser af spejderliv sammen med dem du kender f
 ra gruppen\, men med rig  \nmulighed for at møde spejdere på tværs af k
 orps fra resten af Danmark og  \nhele verden.  \n\nCamelot Spejderne sk
 al selvfølgelig også med\, og vi håber\, at DU vil  \nvære en del af o
 plevelsen! \n\nHvorfor skal du med på Spejdernes Lejr 2026? \n\nSpejder
 nes Lejr er en lidt større oplevelse\, end du er vant til fra  \ngruppetu
 re og centerlejre. Lejren foregår hvert fjerde år forskellige  \nsteder 
 i Danmark. Hvis du tager med på Spejdernes Lejr 2026 får du: \n\n•En 
 hel uge fyldt med aktiviteter\, udfordringer og oplevelser. \n\n•Et uni
 kt fællesskab med spejdere fra hele landet (og resten af  \nverden). \n
 \n•Oplevelsen af en spejderby\, hvor 30.000 af børn\, unge og  \nv
 oksne bor\, leger\, lærer og arbejder sammen. \n\n•Minder for livet
 ! \n*Det praktiske:*\n\n*Gren*\n\n\n*Datoer*\n\n\nFamiliespejd\n   barn 3
 -6 år\n\n\n22.-24.\n\n\nFamilespejd\n   barn 6+ år\n\n\n22.-24.\n\n\nFam
 ilespejd\n   vosken\n\n\n22.-24.\n\n\nMikro\n\n\n22.-24.\n\n\nMini\n\n\n22
 .-25.\n\n\nJunior\n\n\n18.-26.\n\n\nTrop \n\n\n18.-26.\n\n\nKlan\n\n\n18.
 -26.\n\n\n\n \n\n--------------------------------------------------------
 ----------------------\n\n\nTransport til og fra lejren bliver med bus - n
 ærmere info kommer.\n\nFamiliespejdere med forældre må gerne transporte
 re sig selv.\n\n\nPakkeliste findes her: https://camelotspejderne.dk/file
 s/2025-11/Pakkeliste  \nsommerlejr.pdf   [1]\n\n\n\n\nHvis man har spør
 gsmål\, kan man tage fat i sin grenleder.\n\nAlternativt Anders Frederiks
 en på 27392019\n\n\n\n\n\n\n\n[1] https://camelotspejderne.dk/files/2025-
 11/Pakkeliste sommerlejr.pdf\n
URL:https://camelotspejderne.dk/begivenhed/spejdernes-lejr-2026-eftertilmel
 ding
DTSTART:20260718T070000Z
DTEND:20260726T140000Z
LOCATION:Naturpark Hedeland\, 2640 Hedehusene
END:VEVENT
BEGIN:VEVENT
UID:gruppeweb.dk:4416:event:264
DTSTAMP:20260422T160110Z
LAST-MODIFIED:20260401T191738Z
SUMMARY:Sct. Georgs Gilde Løbet
DESCRIPTION:Løbet afvikles den 1. søndag i oktober. Det tilbydes til alle
   \nspejdergrupper på Fyn og deltagerne er fra 6 til 12 år.\nDet er et s
 amarbejde mellem Odense Gilderne\, spejdergrupper og mange andre  \nstøtt
 er\, der gør det muligt at afvikle så stort et spejderløb.\n\n
URL:https://camelotspejderne.dk/begivenhed/sct-georgs-gilde-loebet
DTSTART:20261004T070000Z
DTEND:20261004T130000Z
LOCATION:Hollufgård\, Hestehaven 201\, 5220 Odense SØ
END:VEVENT
END:VCALENDAR
